BEGIN:VCALENDAR
VERSION:2.0
PRODID:-//Fiorelilla - ECPv6.15.17.1//NONSGML v1.0//EN
CALSCALE:GREGORIAN
METHOD:PUBLISH
X-ORIGINAL-URL:https://fiorelilla.it
X-WR-CALDESC:Eventi per Fiorelilla
REFRESH-INTERVAL;VALUE=DURATION:PT1H
X-Robots-Tag:noindex
X-PUBLISHED-TTL:PT1H
BEGIN:VTIMEZONE
TZID:Europe/Paris
BEGIN:DAYLIGHT
TZOFFSETFROM:+0100
TZOFFSETTO:+0200
TZNAME:CEST
DTSTART:20250330T010000
END:DAYLIGHT
BEGIN:STANDARD
TZOFFSETFROM:+0200
TZOFFSETTO:+0100
TZNAME:CET
DTSTART:20251026T010000
END:STANDARD
BEGIN:DAYLIGHT
TZOFFSETFROM:+0100
TZOFFSETTO:+0200
TZNAME:CEST
DTSTART:20260329T010000
END:DAYLIGHT
BEGIN:STANDARD
TZOFFSETFROM:+0200
TZOFFSETTO:+0100
TZNAME:CET
DTSTART:20261025T010000
END:STANDARD
BEGIN:DAYLIGHT
TZOFFSETFROM:+0100
TZOFFSETTO:+0200
TZNAME:CEST
DTSTART:20270328T010000
END:DAYLIGHT
BEGIN:STANDARD
TZOFFSETFROM:+0200
TZOFFSETTO:+0100
TZNAME:CET
DTSTART:20271031T010000
END:STANDARD
END:VTIMEZONE
BEGIN:VEVENT
DTSTART;TZID=Europe/Paris:20260405T090000
DTEND;TZID=Europe/Paris:20260405T100000
DTSTAMP:20260419T221356
CREATED:20260325T132235Z
LAST-MODIFIED:20260325T132235Z
UID:10000740-1775379600-1775383200@fiorelilla.it
SUMMARY:Tulipasì
DESCRIPTION:
URL:https://fiorelilla.it/event/tulipasi-326/
LOCATION:Tulipasì\, Cascina Picchetta 59 28062 Cameri (NO)\, 28062\, Italy
END:VEVENT
BEGIN:VEVENT
DTSTART;TZID=Europe/Paris:20260405T100000
DTEND;TZID=Europe/Paris:20260405T110000
DTSTAMP:20260419T221356
CREATED:20260325T132235Z
LAST-MODIFIED:20260325T132235Z
UID:10000741-1775383200-1775386800@fiorelilla.it
SUMMARY:Tulipasì
DESCRIPTION:
URL:https://fiorelilla.it/event/tulipasi-325/
LOCATION:Tulipasì\, Cascina Picchetta 59 28062 Cameri (NO)\, 28062\, Italy
END:VEVENT
BEGIN:VEVENT
DTSTART;TZID=Europe/Paris:20260405T110000
DTEND;TZID=Europe/Paris:20260405T120000
DTSTAMP:20260419T221356
CREATED:20260325T132235Z
LAST-MODIFIED:20260325T132235Z
UID:10000742-1775386800-1775390400@fiorelilla.it
SUMMARY:Tulipasì
DESCRIPTION:
URL:https://fiorelilla.it/event/tulipasi-324/
LOCATION:Tulipasì\, Cascina Picchetta 59 28062 Cameri (NO)\, 28062\, Italy
END:VEVENT
BEGIN:VEVENT
DTSTART;TZID=Europe/Paris:20260405T120000
DTEND;TZID=Europe/Paris:20260405T130000
DTSTAMP:20260419T221356
CREATED:20260325T132235Z
LAST-MODIFIED:20260325T132235Z
UID:10000743-1775390400-1775394000@fiorelilla.it
SUMMARY:Tulipasì
DESCRIPTION:
URL:https://fiorelilla.it/event/tulipasi-323/
LOCATION:Tulipasì\, Cascina Picchetta 59 28062 Cameri (NO)\, 28062\, Italy
END:VEVENT
BEGIN:VEVENT
DTSTART;TZID=Europe/Paris:20260405T130000
DTEND;TZID=Europe/Paris:20260405T140000
DTSTAMP:20260419T221356
CREATED:20260325T132234Z
LAST-MODIFIED:20260325T132234Z
UID:10000744-1775394000-1775397600@fiorelilla.it
SUMMARY:Tulipasì
DESCRIPTION:
URL:https://fiorelilla.it/event/tulipasi-322/
LOCATION:Tulipasì\, Cascina Picchetta 59 28062 Cameri (NO)\, 28062\, Italy
END:VEVENT
BEGIN:VEVENT
DTSTART;TZID=Europe/Paris:20260405T140000
DTEND;TZID=Europe/Paris:20260405T150000
DTSTAMP:20260419T221356
CREATED:20260325T132234Z
LAST-MODIFIED:20260325T132234Z
UID:10000745-1775397600-1775401200@fiorelilla.it
SUMMARY:Tulipasì
DESCRIPTION:
URL:https://fiorelilla.it/event/tulipasi-321/
LOCATION:Tulipasì\, Cascina Picchetta 59 28062 Cameri (NO)\, 28062\, Italy
END:VEVENT
BEGIN:VEVENT
DTSTART;TZID=Europe/Paris:20260405T150000
DTEND;TZID=Europe/Paris:20260405T160000
DTSTAMP:20260419T221356
CREATED:20260325T132234Z
LAST-MODIFIED:20260325T132234Z
UID:10000746-1775401200-1775404800@fiorelilla.it
SUMMARY:Tulipasì
DESCRIPTION:
URL:https://fiorelilla.it/event/tulipasi-320/
LOCATION:Tulipasì\, Cascina Picchetta 59 28062 Cameri (NO)\, 28062\, Italy
END:VEVENT
BEGIN:VEVENT
DTSTART;TZID=Europe/Paris:20260405T160000
DTEND;TZID=Europe/Paris:20260405T170000
DTSTAMP:20260419T221356
CREATED:20260325T132234Z
LAST-MODIFIED:20260325T132234Z
UID:10000747-1775404800-1775408400@fiorelilla.it
SUMMARY:Tulipasì
DESCRIPTION:
URL:https://fiorelilla.it/event/tulipasi-319/
LOCATION:Tulipasì\, Cascina Picchetta 59 28062 Cameri (NO)\, 28062\, Italy
END:VEVENT
BEGIN:VEVENT
DTSTART;TZID=Europe/Paris:20260405T170000
DTEND;TZID=Europe/Paris:20260405T180000
DTSTAMP:20260419T221356
CREATED:20260325T132234Z
LAST-MODIFIED:20260325T132234Z
UID:10000748-1775408400-1775412000@fiorelilla.it
SUMMARY:Tulipasì
DESCRIPTION:
URL:https://fiorelilla.it/event/tulipasi-318/
LOCATION:Tulipasì\, Cascina Picchetta 59 28062 Cameri (NO)\, 28062\, Italy
END:VEVENT
BEGIN:VEVENT
DTSTART;TZID=Europe/Paris:20260405T180000
DTEND;TZID=Europe/Paris:20260405T190000
DTSTAMP:20260419T221356
CREATED:20260325T132234Z
LAST-MODIFIED:20260325T132553Z
UID:10000749-1775412000-1775415600@fiorelilla.it
SUMMARY:Tulipasì
DESCRIPTION:
URL:https://fiorelilla.it/event/tulipasi-317/
LOCATION:Tulipasì\, Cascina Picchetta 59 28062 Cameri (NO)\, 28062\, Italy
END:VEVENT
END:VCALENDAR