BEGIN:VCALENDAR
VERSION:2.0
PRODID:-//Fiorelilla - ECPv6.15.17.1//NONSGML v1.0//EN
CALSCALE:GREGORIAN
METHOD:PUBLISH
X-ORIGINAL-URL:https://fiorelilla.it
X-WR-CALDESC:Eventi per Fiorelilla
REFRESH-INTERVAL;VALUE=DURATION:PT1H
X-Robots-Tag:noindex
X-PUBLISHED-TTL:PT1H
BEGIN:VTIMEZONE
TZID:Europe/Paris
BEGIN:DAYLIGHT
TZOFFSETFROM:+0100
TZOFFSETTO:+0200
TZNAME:CEST
DTSTART:20250330T010000
END:DAYLIGHT
BEGIN:STANDARD
TZOFFSETFROM:+0200
TZOFFSETTO:+0100
TZNAME:CET
DTSTART:20251026T010000
END:STANDARD
BEGIN:DAYLIGHT
TZOFFSETFROM:+0100
TZOFFSETTO:+0200
TZNAME:CEST
DTSTART:20260329T010000
END:DAYLIGHT
BEGIN:STANDARD
TZOFFSETFROM:+0200
TZOFFSETTO:+0100
TZNAME:CET
DTSTART:20261025T010000
END:STANDARD
BEGIN:DAYLIGHT
TZOFFSETFROM:+0100
TZOFFSETTO:+0200
TZNAME:CEST
DTSTART:20270328T010000
END:DAYLIGHT
BEGIN:STANDARD
TZOFFSETFROM:+0200
TZOFFSETTO:+0100
TZNAME:CET
DTSTART:20271031T010000
END:STANDARD
END:VTIMEZONE
BEGIN:VEVENT
DTSTART;TZID=Europe/Paris:20260331T100000
DTEND;TZID=Europe/Paris:20260331T110000
DTSTAMP:20260419T221317
CREATED:20260325T132157Z
LAST-MODIFIED:20260325T132157Z
UID:10000685-1774951200-1774954800@fiorelilla.it
SUMMARY:Tulipasì
DESCRIPTION:
URL:https://fiorelilla.it/event/tulipasi-292/
LOCATION:Tulipasì\, Cascina Picchetta 59 28062 Cameri (NO)\, 28062\, Italy
END:VEVENT
BEGIN:VEVENT
DTSTART;TZID=Europe/Paris:20260331T110000
DTEND;TZID=Europe/Paris:20260331T120000
DTSTAMP:20260419T221317
CREATED:20260325T132157Z
LAST-MODIFIED:20260325T132157Z
UID:10000686-1774954800-1774958400@fiorelilla.it
SUMMARY:Tulipasì
DESCRIPTION:
URL:https://fiorelilla.it/event/tulipasi-291/
LOCATION:Tulipasì\, Cascina Picchetta 59 28062 Cameri (NO)\, 28062\, Italy
END:VEVENT
BEGIN:VEVENT
DTSTART;TZID=Europe/Paris:20260331T120000
DTEND;TZID=Europe/Paris:20260331T130000
DTSTAMP:20260419T221317
CREATED:20260325T132157Z
LAST-MODIFIED:20260325T132157Z
UID:10000687-1774958400-1774962000@fiorelilla.it
SUMMARY:Tulipasì
DESCRIPTION:
URL:https://fiorelilla.it/event/tulipasi-290/
LOCATION:Tulipasì\, Cascina Picchetta 59 28062 Cameri (NO)\, 28062\, Italy
END:VEVENT
BEGIN:VEVENT
DTSTART;TZID=Europe/Paris:20260331T130000
DTEND;TZID=Europe/Paris:20260331T140000
DTSTAMP:20260419T221317
CREATED:20260325T132157Z
LAST-MODIFIED:20260325T132157Z
UID:10000688-1774962000-1774965600@fiorelilla.it
SUMMARY:Tulipasì
DESCRIPTION:
URL:https://fiorelilla.it/event/tulipasi-289/
LOCATION:Tulipasì\, Cascina Picchetta 59 28062 Cameri (NO)\, 28062\, Italy
END:VEVENT
BEGIN:VEVENT
DTSTART;TZID=Europe/Paris:20260331T140000
DTEND;TZID=Europe/Paris:20260331T150000
DTSTAMP:20260419T221317
CREATED:20260325T132157Z
LAST-MODIFIED:20260325T132157Z
UID:10000689-1774965600-1774969200@fiorelilla.it
SUMMARY:Tulipasì
DESCRIPTION:
URL:https://fiorelilla.it/event/tulipasi-288/
LOCATION:Tulipasì\, Cascina Picchetta 59 28062 Cameri (NO)\, 28062\, Italy
END:VEVENT
BEGIN:VEVENT
DTSTART;TZID=Europe/Paris:20260331T150000
DTEND;TZID=Europe/Paris:20260331T160000
DTSTAMP:20260419T221317
CREATED:20260325T132157Z
LAST-MODIFIED:20260325T132157Z
UID:10000690-1774969200-1774972800@fiorelilla.it
SUMMARY:Tulipasì
DESCRIPTION:
URL:https://fiorelilla.it/event/tulipasi-287/
LOCATION:Tulipasì\, Cascina Picchetta 59 28062 Cameri (NO)\, 28062\, Italy
END:VEVENT
BEGIN:VEVENT
DTSTART;TZID=Europe/Paris:20260331T160000
DTEND;TZID=Europe/Paris:20260331T170000
DTSTAMP:20260419T221317
CREATED:20260325T132157Z
LAST-MODIFIED:20260325T132157Z
UID:10000691-1774972800-1774976400@fiorelilla.it
SUMMARY:Tulipasì
DESCRIPTION:
URL:https://fiorelilla.it/event/tulipasi-286/
LOCATION:Tulipasì\, Cascina Picchetta 59 28062 Cameri (NO)\, 28062\, Italy
END:VEVENT
BEGIN:VEVENT
DTSTART;TZID=Europe/Paris:20260331T170000
DTEND;TZID=Europe/Paris:20260331T180000
DTSTAMP:20260419T221317
CREATED:20260325T132157Z
LAST-MODIFIED:20260325T132157Z
UID:10000692-1774976400-1774980000@fiorelilla.it
SUMMARY:Tulipasì
DESCRIPTION:
URL:https://fiorelilla.it/event/tulipasi-285/
LOCATION:Tulipasì\, Cascina Picchetta 59 28062 Cameri (NO)\, 28062\, Italy
END:VEVENT
BEGIN:VEVENT
DTSTART;TZID=Europe/Paris:20260331T180000
DTEND;TZID=Europe/Paris:20260331T190000
DTSTAMP:20260419T221317
CREATED:20260325T132156Z
LAST-MODIFIED:20260325T132156Z
UID:10000693-1774980000-1774983600@fiorelilla.it
SUMMARY:Tulipasì
DESCRIPTION:
URL:https://fiorelilla.it/event/tulipasi-284/
LOCATION:Tulipasì\, Cascina Picchetta 59 28062 Cameri (NO)\, 28062\, Italy
END:VEVENT
END:VCALENDAR