BEGIN:VCALENDAR
VERSION:2.0
PRODID:-//Fiorelilla - ECPv6.15.17.1//NONSGML v1.0//EN
CALSCALE:GREGORIAN
METHOD:PUBLISH
X-WR-CALNAME:Fiorelilla
X-ORIGINAL-URL:https://fiorelilla.it
X-WR-CALDESC:Eventi per Fiorelilla
REFRESH-INTERVAL;VALUE=DURATION:PT1H
X-Robots-Tag:noindex
X-PUBLISHED-TTL:PT1H
BEGIN:VTIMEZONE
TZID:Europe/Paris
BEGIN:DAYLIGHT
TZOFFSETFROM:+0100
TZOFFSETTO:+0200
TZNAME:CEST
DTSTART:20250330T010000
END:DAYLIGHT
BEGIN:STANDARD
TZOFFSETFROM:+0200
TZOFFSETTO:+0100
TZNAME:CET
DTSTART:20251026T010000
END:STANDARD
BEGIN:DAYLIGHT
TZOFFSETFROM:+0100
TZOFFSETTO:+0200
TZNAME:CEST
DTSTART:20260329T010000
END:DAYLIGHT
BEGIN:STANDARD
TZOFFSETFROM:+0200
TZOFFSETTO:+0100
TZNAME:CET
DTSTART:20261025T010000
END:STANDARD
BEGIN:DAYLIGHT
TZOFFSETFROM:+0100
TZOFFSETTO:+0200
TZNAME:CEST
DTSTART:20270328T010000
END:DAYLIGHT
BEGIN:STANDARD
TZOFFSETFROM:+0200
TZOFFSETTO:+0100
TZNAME:CET
DTSTART:20271031T010000
END:STANDARD
END:VTIMEZONE
BEGIN:VEVENT
DTSTART;TZID=Europe/Paris:20260329T090000
DTEND;TZID=Europe/Paris:20260329T100000
DTSTAMP:20260419T234052
CREATED:20260325T132136Z
LAST-MODIFIED:20260325T132136Z
UID:10000666-1774774800-1774778400@fiorelilla.it
SUMMARY:Tulipasì
DESCRIPTION:
URL:https://fiorelilla.it/event/tulipasi-271/
LOCATION:Tulipasì\, Cascina Picchetta 59 28062 Cameri (NO)\, 28062\, Italy
END:VEVENT
BEGIN:VEVENT
DTSTART;TZID=Europe/Paris:20260329T100000
DTEND;TZID=Europe/Paris:20260329T110000
DTSTAMP:20260419T234052
CREATED:20260325T132135Z
LAST-MODIFIED:20260325T132135Z
UID:10000667-1774778400-1774782000@fiorelilla.it
SUMMARY:Tulipasì
DESCRIPTION:
URL:https://fiorelilla.it/event/tulipasi-270/
LOCATION:Tulipasì\, Cascina Picchetta 59 28062 Cameri (NO)\, 28062\, Italy
END:VEVENT
BEGIN:VEVENT
DTSTART;TZID=Europe/Paris:20260329T110000
DTEND;TZID=Europe/Paris:20260329T120000
DTSTAMP:20260419T234052
CREATED:20260325T132135Z
LAST-MODIFIED:20260325T132135Z
UID:10000668-1774782000-1774785600@fiorelilla.it
SUMMARY:Tulipasì
DESCRIPTION:
URL:https://fiorelilla.it/event/tulipasi-269/
LOCATION:Tulipasì\, Cascina Picchetta 59 28062 Cameri (NO)\, 28062\, Italy
END:VEVENT
BEGIN:VEVENT
DTSTART;TZID=Europe/Paris:20260329T120000
DTEND;TZID=Europe/Paris:20260329T130000
DTSTAMP:20260419T234052
CREATED:20260325T132135Z
LAST-MODIFIED:20260325T132135Z
UID:10000669-1774785600-1774789200@fiorelilla.it
SUMMARY:Tulipasì
DESCRIPTION:
URL:https://fiorelilla.it/event/tulipasi-268/
LOCATION:Tulipasì\, Cascina Picchetta 59 28062 Cameri (NO)\, 28062\, Italy
END:VEVENT
BEGIN:VEVENT
DTSTART;TZID=Europe/Paris:20260329T130000
DTEND;TZID=Europe/Paris:20260329T140000
DTSTAMP:20260419T234052
CREATED:20260325T132135Z
LAST-MODIFIED:20260325T132135Z
UID:10000670-1774789200-1774792800@fiorelilla.it
SUMMARY:Tulipasì
DESCRIPTION:
URL:https://fiorelilla.it/event/tulipasi-267/
LOCATION:Tulipasì\, Cascina Picchetta 59 28062 Cameri (NO)\, 28062\, Italy
END:VEVENT
BEGIN:VEVENT
DTSTART;TZID=Europe/Paris:20260329T140000
DTEND;TZID=Europe/Paris:20260329T150000
DTSTAMP:20260419T234052
CREATED:20260325T132135Z
LAST-MODIFIED:20260325T132135Z
UID:10000671-1774792800-1774796400@fiorelilla.it
SUMMARY:Tulipasì
DESCRIPTION:
URL:https://fiorelilla.it/event/tulipasi-266/
LOCATION:Tulipasì\, Cascina Picchetta 59 28062 Cameri (NO)\, 28062\, Italy
END:VEVENT
BEGIN:VEVENT
DTSTART;TZID=Europe/Paris:20260329T150000
DTEND;TZID=Europe/Paris:20260329T160000
DTSTAMP:20260419T234052
CREATED:20260325T132135Z
LAST-MODIFIED:20260325T132135Z
UID:10000672-1774796400-1774800000@fiorelilla.it
SUMMARY:Tulipasì
DESCRIPTION:
URL:https://fiorelilla.it/event/tulipasi-265/
LOCATION:Tulipasì\, Cascina Picchetta 59 28062 Cameri (NO)\, 28062\, Italy
END:VEVENT
BEGIN:VEVENT
DTSTART;TZID=Europe/Paris:20260329T160000
DTEND;TZID=Europe/Paris:20260329T170000
DTSTAMP:20260419T234052
CREATED:20260325T132135Z
LAST-MODIFIED:20260325T132135Z
UID:10000673-1774800000-1774803600@fiorelilla.it
SUMMARY:Tulipasì
DESCRIPTION:
URL:https://fiorelilla.it/event/tulipasi-264/
LOCATION:Tulipasì\, Cascina Picchetta 59 28062 Cameri (NO)\, 28062\, Italy
END:VEVENT
BEGIN:VEVENT
DTSTART;TZID=Europe/Paris:20260329T170000
DTEND;TZID=Europe/Paris:20260329T180000
DTSTAMP:20260419T234052
CREATED:20260325T132135Z
LAST-MODIFIED:20260325T132135Z
UID:10000674-1774803600-1774807200@fiorelilla.it
SUMMARY:Tulipasì
DESCRIPTION:
URL:https://fiorelilla.it/event/tulipasi-263/
LOCATION:Tulipasì\, Cascina Picchetta 59 28062 Cameri (NO)\, 28062\, Italy
END:VEVENT
BEGIN:VEVENT
DTSTART;TZID=Europe/Paris:20260329T180000
DTEND;TZID=Europe/Paris:20260329T190000
DTSTAMP:20260419T234052
CREATED:20260325T132135Z
LAST-MODIFIED:20260325T132135Z
UID:10000675-1774807200-1774810800@fiorelilla.it
SUMMARY:Tulipasì
DESCRIPTION:
URL:https://fiorelilla.it/event/tulipasi-262/
LOCATION:Tulipasì\, Cascina Picchetta 59 28062 Cameri (NO)\, 28062\, Italy
END:VEVENT
END:VCALENDAR